BEGIN:VCALENDAR
VERSION:2.0
PRODID:-//wp-events-plugin.com//7.2.3.1//EN
TZID:America/Detroit
X-WR-TIMEZONE:America/Detroit
BEGIN:VEVENT
UID:4@conspirito.kirkwoodpres.org
DTSTART;TZID=America/Chicago:20240212T190000
DTEND;TZID=America/Chicago:20240212T210000
DTSTAMP:20240205T220520Z
URL:https://conspirito.kirkwoodpres.org/events/st-olaf-college-choir/
SUMMARY:St. Olaf College Choir
DESCRIPTION:The St. Olaf Choir\, conducted by Anton Armstrong\, has set the
  gold standard for choral singing\, performing for millions around the wor
 ld for more than a century. Composed of 75 mixed voices\, the St. Olaf Cho
 ir is hailed as the nation’s premier a cappella ensemble\, renowned for 
 its artistry and beauty of sound.
ATTACH;FMTTYPE=image/jpeg:https://conspirito.kirkwoodpres.org/wp-content/u
 ploads/2023/07/St.-Olaf-Choir-Large-scaled-1.jpg
CATEGORIES:Main Series
LOCATION:Sanctuary\, 100 E. Adams Ave.\, Kirkwood\, MO\, 63122\, United Sta
 tes
X-APPLE-STRUCTURED-LOCATION;VALUE=URI;X-ADDRESS=100 E. Adams Ave.\, Kirkwoo
 d\, MO\, 63122\, United States;X-APPLE-RADIUS=100;X-TITLE=Sanctuary:geo:0,
 0
END:VEVENT
BEGIN:VTIMEZONE
TZID:America/Chicago
X-LIC-LOCATION:America/Chicago
BEGIN:STANDARD
DTSTART:20231105T010000
TZOFFSETFROM:-0500
TZOFFSETTO:-0600
TZNAME:CST
END:STANDARD
END:VTIMEZONE
END:VCALENDAR