BEGIN:VCALENDAR
VERSION:2.0
PRODID:-//wp-events-plugin.com//7.2.3.1//EN
TZID:America/Detroit
X-WR-TIMEZONE:America/Detroit
BEGIN:VEVENT
UID:27@conspirito.kirkwoodpres.org
DTSTART;TZID=America/Chicago:20250314T120000
DTEND;TZID=America/Chicago:20250314T130000
DTSTAMP:20240731T131708Z
URL:https://conspirito.kirkwoodpres.org/events/st-louis-irish-arts/
SUMMARY:St. Louis Irish Arts
DESCRIPTION:St. Louis Irish Arts is a school dedicated to the instruction o
 f the music and dance of Ireland. We pride ourselves on our continual pers
 istence to teaching the Irish music\, song and dance the way they were tau
 ght throughout the centuries in Ireland: the traditional Irish way. Nothin
 g is more beautiful than the natural innocence and splendor of a young chi
 ld. We truly believe in that. So for this reason\, you will never be asked
  to have your child wear a wig or makeup or to use spray tans. If you woul
 d like to give your child ringlets for special occasions that is up to you
 \, but for the most part\, our little girls just wear a plain red bow in t
 heir hair. At no time will you ever see our dancers dancing in public to p
 re-recorded music. Our own students play the music for our dancers. That i
 s the traditional Irish way\; the way it has been done in Ireland for cent
 uries and centuries.
ATTACH;FMTTYPE=image/jpeg:https://conspirito.kirkwoodpres.org/wp-content/u
 ploads/2024/07/327151913_689646199310095_9204647114077536289_n.jpg
CATEGORIES:Lenten Series
LOCATION:Tree of Life Chapel\, 100 E. Adams Avenue\, Kirkwood\, MO\, 63122\
 , United States
X-APPLE-STRUCTURED-LOCATION;VALUE=URI;X-ADDRESS=100 E. Adams Avenue\, Kirkw
 ood\, MO\, 63122\, United States;X-APPLE-RADIUS=100;X-TITLE=Tree of Life C
 hapel:geo:0,0
END:VEVENT
BEGIN:VTIMEZONE
TZID:America/Chicago
X-LIC-LOCATION:America/Chicago
BEGIN:DAYLIGHT
DTSTART:20250309T030000
TZOFFSETFROM:-0600
TZOFFSETTO:-0500
TZNAME:CDT
END:DAYLIGHT
END:VTIMEZONE
END:VCALENDAR