BEGIN:VCALENDAR
VERSION:2.0
PRODID:-//wp-events-plugin.com//7.2.3.1//EN
TZID:America/Detroit
X-WR-TIMEZONE:America/Detroit
BEGIN:VEVENT
UID:9@conspirito.kirkwoodpres.org
DTSTART;TZID=America/Chicago:20240315T120000
DTEND;TZID=America/Chicago:20240315T130000
DTSTAMP:20240205T122417Z
URL:https://conspirito.kirkwoodpres.org/events/st-louis-irish-arts-2/
SUMMARY:St. Louis Irish Arts
DESCRIPTION:St Louis Irish Arts Inc. joined "Comhaltas Ceoltóirí Éirean
 n" in 1973. At that time\, there were very few first generation Irish liv
 ing in St. Louis. Because there were so few first generation Irish here\, 
 the Midwest was poorly served with traditional Irish music. Few concerts c
 ame west of the Mississippi. The Gannon family had arrived in St. Louis in
  1967\, but it was the Boyer family here in St. Louis along with Mr. Bill 
 McEvoy in New York that initiated the Comhaltas branch here in St. Louis.
ATTACH;FMTTYPE=image/jpeg:https://conspirito.kirkwoodpres.org/wp-content/u
 ploads/2018/07/download.jpg
CATEGORIES:Lenten Series
LOCATION:Tree of Life Chapel\, 100 E. Adams Avenue\, Kirkwood\, MO\, 63122\
 , United States
X-APPLE-STRUCTURED-LOCATION;VALUE=URI;X-ADDRESS=100 E. Adams Avenue\, Kirkw
 ood\, MO\, 63122\, United States;X-APPLE-RADIUS=100;X-TITLE=Tree of Life C
 hapel:geo:0,0
END:VEVENT
BEGIN:VTIMEZONE
TZID:America/Chicago
X-LIC-LOCATION:America/Chicago
BEGIN:DAYLIGHT
DTSTART:20240310T030000
TZOFFSETFROM:-0600
TZOFFSETTO:-0500
TZNAME:CDT
END:DAYLIGHT
END:VTIMEZONE
END:VCALENDAR