BEGIN:VCALENDAR
VERSION:2.0
PRODID:-//wp-events-plugin.com//7.2.3.1//EN
TZID:America/Detroit
X-WR-TIMEZONE:America/Detroit
BEGIN:VEVENT
UID:20@conspirito.kirkwoodpres.org
DTSTART;TZID=America/Chicago:20241117T150000
DTEND;TZID=America/Chicago:20241117T160000
DTSTAMP:20240802T220350Z
URL:https://conspirito.kirkwoodpres.org/events/st-louis-chamber-soloists/
SUMMARY:St. Louis Chamber Soloists
DESCRIPTION:The St. Louis Chamber Soloists was founded in 2021 as a 501c3 n
 on-profit by four members of the St. Louis string community. The string or
 chestra performs without a conductor\, and works collectively and democrat
 ically\, which lends itself to dynamic and innovative interpretations of m
 usic old and new. Leadership is valued from each individual. Each musician
  is a leader and contributor\; to play\, plan\, and promote the music as a
  collective. The group performs regularly throughout St.Louis and employs 
 some of the finest local musicians. St. Louis Chamber Soloists concerts in
 clude standards of the string orchestra repertoire as well as music by con
 temporary and under-represented composers. Visit www.stlchambersoloists.or
 g for more information.
ATTACH;FMTTYPE=image/jpeg:https://conspirito.kirkwoodpres.org/wp-content/u
 ploads/2024/07/image1.jpeg
CATEGORIES:Main Series
LOCATION:Sanctuary\, 100 E. Adams Ave.\, Kirkwood\, MO\, 63122\, United Sta
 tes
X-APPLE-STRUCTURED-LOCATION;VALUE=URI;X-ADDRESS=100 E. Adams Ave.\, Kirkwoo
 d\, MO\, 63122\, United States;X-APPLE-RADIUS=100;X-TITLE=Sanctuary:geo:0,
 0
END:VEVENT
BEGIN:VTIMEZONE
TZID:America/Chicago
X-LIC-LOCATION:America/Chicago
BEGIN:STANDARD
DTSTART:20241103T010000
TZOFFSETFROM:-0500
TZOFFSETTO:-0600
TZNAME:CST
END:STANDARD
END:VTIMEZONE
END:VCALENDAR