BEGIN:VCALENDAR
VERSION:2.0
PRODID:-//wp-events-plugin.com//7.2.3.1//EN
TZID:America/Detroit
X-WR-TIMEZONE:America/Detroit
BEGIN:VEVENT
UID:37@conspirito.kirkwoodpres.org
DTSTART;TZID=America/Chicago;VALUE=DATE:20251005
DTEND;TZID=America/Chicago;VALUE=DATE:20251006
DTSTAMP:20250921T122518Z
URL:https://conspirito.kirkwoodpres.org/events/st-louis-chamber-soloists-2
 /
SUMMARY:St. Louis Chamber Soloists
DESCRIPTION:The St. Louis Chamber Soloists was founded in 2021 as a 501c3 n
 on-profit by four members of the St. Louis string community. The string or
 chestra performs without a conductor\, and works collectively and democrat
 ically\, which lends itself to dynamic and innovative interpretations of m
 usic old and new. Leadership is valued from each individual. Each musician
  […]
ATTACH;FMTTYPE=image/jpeg:https://conspirito.kirkwoodpres.org/wp-content/u
 ploads/2025/07/image0.jpeg
CATEGORIES:Main Series
LOCATION:Sanctuary\, 100 E. Adams Ave.\, Kirkwood\, MO\, 63122\, United Sta
 tes
X-APPLE-STRUCTURED-LOCATION;VALUE=URI;X-ADDRESS=100 E. Adams Ave.\, Kirkwoo
 d\, MO\, 63122\, United States;X-APPLE-RADIUS=100;X-TITLE=Sanctuary:geo:0,
 0
END:VEVENT
BEGIN:VTIMEZONE
TZID:America/Chicago
X-LIC-LOCATION:America/Chicago
BEGIN:DAYLIGHT
DTSTART:20250309T030000
TZOFFSETFROM:-0600
TZOFFSETTO:-0500
TZNAME:CDT
END:DAYLIGHT
END:VTIMEZONE
END:VCALENDAR