BEGIN:VCALENDAR
VERSION:2.0
PRODID:-//wp-events-plugin.com//7.2.3.1//EN
TZID:America/Detroit
X-WR-TIMEZONE:America/Detroit
BEGIN:VEVENT
UID:1@conspirito.kirkwoodpres.org
DTSTART;TZID=America/Chicago:20231015T150000
DTEND;TZID=America/Chicago:20231015T163000
DTSTAMP:20240205T120746Z
URL:https://conspirito.kirkwoodpres.org/events/pictures-at-a-presbyterian-
 exhibition/
SUMMARY:Pictures at a Presbyterian Exhibition
DESCRIPTION:We are excited to host an exhibit of Paul Nuckolls’ artwork. 
 Paul\, a member of First Presbyterian Church\, is a wonderfully talented a
 rtist who specializes in acrylic paintings. His works depicting outdoor sc
 enes and animals are incredibly life-like. This event begins with a concer
 t inspired by his paintings in the sanctuary\, featuring compositions for 
 violin\, harp\, bells\, and voice. The afternoon concludes with an exhibit
  of Paul’s work in the Gathering Space.
ATTACH;FMTTYPE=image/jpeg:https://conspirito.kirkwoodpres.org/wp-content/u
 ploads/2023/08/Fall-Reflections-scaled-1.jpg
CATEGORIES:Main Series
LOCATION:Sanctuary\, 100 E. Adams Ave.\, Kirkwood\, MO\, 63122\, United Sta
 tes
X-APPLE-STRUCTURED-LOCATION;VALUE=URI;X-ADDRESS=100 E. Adams Ave.\, Kirkwoo
 d\, MO\, 63122\, United States;X-APPLE-RADIUS=100;X-TITLE=Sanctuary:geo:0,
 0
END:VEVENT
BEGIN:VTIMEZONE
TZID:America/Chicago
X-LIC-LOCATION:America/Chicago
BEGIN:DAYLIGHT
DTSTART:20230312T030000
TZOFFSETFROM:-0600
TZOFFSETTO:-0500
TZNAME:CDT
END:DAYLIGHT
END:VTIMEZONE
END:VCALENDAR