BEGIN:VCALENDAR
VERSION:2.0
PRODID:-//wp-events-plugin.com//7.2.3.1//EN
TZID:America/Detroit
X-WR-TIMEZONE:America/Detroit
BEGIN:VEVENT
UID:46@conspirito.kirkwoodpres.org
DTSTART;TZID=America/Chicago;VALUE=DATE:20260306
DTEND;TZID=America/Chicago;VALUE=DATE:20260307
DTSTAMP:20251212T131322Z
URL:https://conspirito.kirkwoodpres.org/events/perseid-string-quartet-2/
SUMMARY:Perseid String Quartet
DESCRIPTION:Formed in 2013\, the Perseid String Quartet is dedicated to per
 forming chamber music to the highest possible artistic standards\, and to 
 creating accessible and enjoyable concert experiences in the St. Louis com
 munity. The Perseids have previously appeared at the Sheldon Concert Hall\
 , various venues at Washington University in St Louis\, the Schmidt Art Ga
 llery at […]
ATTACH;FMTTYPE=image/jpeg:https://conspirito.kirkwoodpres.org/wp-content/u
 ploads/2021/01/dsc_3545_warmify-scaled-1.jpg
CATEGORIES:Lenten Series
LOCATION:Tree of Life Chapel\, 100 E. Adams Avenue\, Kirkwood\, MO\, 63122\
 , United States
X-APPLE-STRUCTURED-LOCATION;VALUE=URI;X-ADDRESS=100 E. Adams Avenue\, Kirkw
 ood\, MO\, 63122\, United States;X-APPLE-RADIUS=100;X-TITLE=Tree of Life C
 hapel:geo:0,0
END:VEVENT
BEGIN:VTIMEZONE
TZID:America/Chicago
X-LIC-LOCATION:America/Chicago
BEGIN:STANDARD
DTSTART:20251102T010000
TZOFFSETFROM:-0500
TZOFFSETTO:-0600
TZNAME:CST
END:STANDARD
END:VTIMEZONE
END:VCALENDAR