BEGIN:VCALENDAR
VERSION:2.0
PRODID:-//wp-events-plugin.com//7.2.3.1//EN
TZID:America/Detroit
X-WR-TIMEZONE:America/Detroit
BEGIN:VEVENT
UID:28@conspirito.kirkwoodpres.org
DTSTART;TZID=America/Chicago:20250321T120000
DTEND;TZID=America/Chicago:20250321T130000
DTSTAMP:20240731T131735Z
URL:https://conspirito.kirkwoodpres.org/events/patrick-rafferty-guitar/
SUMMARY:Patrick Rafferty\, Guitar
DESCRIPTION:Patrick Rafferty\,  an active performer and teacher\, concertiz
 es across the Midwest and teaches in a variety of studio and classroom set
 tings across the area. A polished interpreter of the traditional guitar re
 pertoire\, he is equally at home in a wide range of popular and world musi
 c styles. Patrick has extended his interests to early guitar repertoire wi
 th a focus on Baroque guitar\, 19th Century Guitars and the music that was
  written for them.
ATTACH;FMTTYPE=image/jpeg:https://conspirito.kirkwoodpres.org/wp-content/u
 ploads/2024/07/emmopic.jpg
CATEGORIES:Lenten Series
LOCATION:Tree of Life Chapel\, 100 E. Adams Avenue\, Kirkwood\, MO\, 63122\
 , United States
X-APPLE-STRUCTURED-LOCATION;VALUE=URI;X-ADDRESS=100 E. Adams Avenue\, Kirkw
 ood\, MO\, 63122\, United States;X-APPLE-RADIUS=100;X-TITLE=Tree of Life C
 hapel:geo:0,0
END:VEVENT
BEGIN:VTIMEZONE
TZID:America/Chicago
X-LIC-LOCATION:America/Chicago
BEGIN:DAYLIGHT
DTSTART:20250309T030000
TZOFFSETFROM:-0600
TZOFFSETTO:-0500
TZNAME:CDT
END:DAYLIGHT
END:VTIMEZONE
END:VCALENDAR