BEGIN:VCALENDAR
VERSION:2.0
PRODID:-//wp-events-plugin.com//7.2.3.1//EN
TZID:America/Detroit
X-WR-TIMEZONE:America/Detroit
BEGIN:VEVENT
UID:14@conspirito.kirkwoodpres.org
DTSTART;TZID=America/Chicago:20240506T190000
DTEND;TZID=America/Chicago:20240506T203000
DTSTAMP:20240205T123421Z
URL:https://conspirito.kirkwoodpres.org/events/nebraska-wesleyan-universit
 y-choir/
SUMMARY:Lead Us On to the Light
DESCRIPTION:As they travel to visit the National Civil Rights Museum in Mem
 phis\, the Nebraska Wesleyan University Choir and Jazz Choir bring a messa
 ge of hope to audiences in Nebraska\, Kansas\, Missouri\, and Tennessee. I
 nspired by a phrase from Dr. Martin Luther King Jr.'s favorite hymn ("...l
 ead me on to the light")\, this eclectic and engaging program features mus
 ic by Rosephanye Powell\, Moses Hogan\, Maurice Duruflé\, Heinrich Schüt
 z\, and Dolly Parton. Tom Trenney's arrangement of "We Shall Overcome" and
  U2's haunting "MLK" are sure to be highlights of this powerful program as
  well.
ATTACH;FMTTYPE=image/jpeg:https://conspirito.kirkwoodpres.org/wp-content/u
 ploads/2023/09/NWU-Choir-photo-scaled-1.webp
CATEGORIES:Main Series
LOCATION:Sanctuary\, 100 E. Adams Ave.\, Kirkwood\, MO\, 63122\, United Sta
 tes
X-APPLE-STRUCTURED-LOCATION;VALUE=URI;X-ADDRESS=100 E. Adams Ave.\, Kirkwoo
 d\, MO\, 63122\, United States;X-APPLE-RADIUS=100;X-TITLE=Sanctuary:geo:0,
 0
END:VEVENT
BEGIN:VTIMEZONE
TZID:America/Chicago
X-LIC-LOCATION:America/Chicago
BEGIN:DAYLIGHT
DTSTART:20240310T030000
TZOFFSETFROM:-0600
TZOFFSETTO:-0500
TZNAME:CDT
END:DAYLIGHT
END:VTIMEZONE
END:VCALENDAR