BEGIN:VCALENDAR
VERSION:2.0
PRODID:-//wp-events-plugin.com//7.2.3.1//EN
TZID:America/Detroit
X-WR-TIMEZONE:America/Detroit
BEGIN:VEVENT
UID:3@conspirito.kirkwoodpres.org
DTSTART;TZID=America/Chicago:20240128T150000
DTEND;TZID=America/Chicago:20240128T163000
DTSTAMP:20240205T120955Z
URL:https://conspirito.kirkwoodpres.org/events/mound-city-slickers/
SUMMARY:Mound City Slickers
DESCRIPTION:Hailing from the St. Louis region\, The Slickers have played fe
 stivals\, house concerts and more than a few contra and square dances thro
 ughout Missouri and Illinois. Steeped in tradition\, their concerts are a 
 unique mix of hard-driving dance tunes\, country harmonies\, Midwest fiddl
 e tunes\, rags\, and other surprises that have made them favorites of the 
 old-time string band scene. Their high-energy playing and ear for a good t
 une make for good listening\, good dancing\, and good times. The band is S
 ean Belt (ukuleles)\, Lindell Blackford (fiddle & mandolin)\, Rich Hibbs (
 banjo)\, Rich Egan (piano)\, and Keith Dudding (guitar).
ATTACH;FMTTYPE=image/jpeg:https://conspirito.kirkwoodpres.org/wp-content/u
 ploads/2023/07/slickers-02_orig.jpg
CATEGORIES:Main Series
LOCATION:Sanctuary\, 100 E. Adams Ave.\, Kirkwood\, MO\, 63122\, United Sta
 tes
X-APPLE-STRUCTURED-LOCATION;VALUE=URI;X-ADDRESS=100 E. Adams Ave.\, Kirkwoo
 d\, MO\, 63122\, United States;X-APPLE-RADIUS=100;X-TITLE=Sanctuary:geo:0,
 0
END:VEVENT
BEGIN:VTIMEZONE
TZID:America/Chicago
X-LIC-LOCATION:America/Chicago
BEGIN:STANDARD
DTSTART:20231105T010000
TZOFFSETFROM:-0500
TZOFFSETTO:-0600
TZNAME:CST
END:STANDARD
END:VTIMEZONE
END:VCALENDAR