BEGIN:VCALENDAR
VERSION:2.0
PRODID:-//wp-events-plugin.com//7.2.3.1//EN
TZID:America/Detroit
X-WR-TIMEZONE:America/Detroit
BEGIN:VEVENT
UID:39@conspirito.kirkwoodpres.org
DTSTART;TZID=America/Chicago;VALUE=DATE:20251116
DTEND;TZID=America/Chicago;VALUE=DATE:20251117
DTSTAMP:20250731T122758Z
URL:https://conspirito.kirkwoodpres.org/events/louisa-wimmer-bewitched-bot
 hered-and-bewildered/
SUMMARY:Louisa Wimmer\, “Bewitched\, Bothered\, and Bewildered”
DESCRIPTION:A recital of some of Shakespeare's most distraught heroines: Ju
 liet\, Lady Macbeth\, and Ophelia. Featuring works by Thomas Pasatieri\, J
 ake Heggie\, Charles Gounod\, and more.
ATTACH;FMTTYPE=image/jpeg:https://conspirito.kirkwoodpres.org/wp-content/u
 ploads/2025/07/Headshot-Wimmer-.jpg
CATEGORIES:Main Series
LOCATION:Sanctuary\, 100 E. Adams Ave.\, Kirkwood\, MO\, 63122\, United Sta
 tes
X-APPLE-STRUCTURED-LOCATION;VALUE=URI;X-ADDRESS=100 E. Adams Ave.\, Kirkwoo
 d\, MO\, 63122\, United States;X-APPLE-RADIUS=100;X-TITLE=Sanctuary:geo:0,
 0
END:VEVENT
BEGIN:VTIMEZONE
TZID:America/Chicago
X-LIC-LOCATION:America/Chicago
BEGIN:STANDARD
DTSTART:20251102T010000
TZOFFSETFROM:-0500
TZOFFSETTO:-0600
TZNAME:CST
END:STANDARD
END:VTIMEZONE
END:VCALENDAR