BEGIN:VCALENDAR
VERSION:2.0
PRODID:-//wp-events-plugin.com//7.2.3.1//EN
TZID:America/Detroit
X-WR-TIMEZONE:America/Detroit
BEGIN:VEVENT
UID:12@conspirito.kirkwoodpres.org
DTSTART;TZID=America/Chicago:20240414T150000
DTEND;TZID=America/Chicago:20240414T170000
DTSTAMP:20240205T123226Z
URL:https://conspirito.kirkwoodpres.org/events/jupiter-string-quartet/
SUMMARY:Jupiter String Quartet
DESCRIPTION:The Jupiter String Quartet is a particularly intimate group\, c
 onsisting of violinists Nelson Lee and Meg Freivogel\, violist Liz Freivog
 el (Meg’s older sister)\, and cellist Daniel McDonough (Meg’s husband\
 , Liz’s brother-in-law). Now enjoying their 21st year together\, this ti
 ght-knit ensemble is firmly established as an important voice in the world
  of chamber music. The New Yorker claims\, “The Jupiter String Quartet\,
  an ensemble of eloquent intensity\, has matured into one of the mainstays
  of the American chamber-music scene.”
ATTACH;FMTTYPE=image/jpeg:https://conspirito.kirkwoodpres.org/wp-content/u
 ploads/2023/07/jupiter.jpg
CATEGORIES:Main Series
LOCATION:Sanctuary\, 100 E. Adams Ave.\, Kirkwood\, MO\, 63122\, United Sta
 tes
X-APPLE-STRUCTURED-LOCATION;VALUE=URI;X-ADDRESS=100 E. Adams Ave.\, Kirkwoo
 d\, MO\, 63122\, United States;X-APPLE-RADIUS=100;X-TITLE=Sanctuary:geo:0,
 0
END:VEVENT
BEGIN:VTIMEZONE
TZID:America/Chicago
X-LIC-LOCATION:America/Chicago
BEGIN:DAYLIGHT
DTSTART:20240310T030000
TZOFFSETFROM:-0600
TZOFFSETTO:-0500
TZNAME:CDT
END:DAYLIGHT
END:VTIMEZONE
END:VCALENDAR