BEGIN:VCALENDAR
VERSION:2.0
PRODID:-//wp-events-plugin.com//7.2.3.1//EN
TZID:America/Detroit
X-WR-TIMEZONE:America/Detroit
BEGIN:VEVENT
UID:17@conspirito.kirkwoodpres.org
DTSTART;TZID=America/Chicago:20240721T090000
DTEND;TZID=America/Chicago:20240721T100000
DTSTAMP:20240205T123745Z
URL:https://conspirito.kirkwoodpres.org/events/jonathan-reycraft-trombone/
SUMMARY:Jonathan Reycraft\, trombone
DESCRIPTION:Originally from the tri-state area in New York\, Jonathan Reycr
 aft grew up drawing comparisons between the sounds of the city and the sou
 nds of the orchestra – with shipping crates as string basses and water t
 owers as snare drums. From that upbringing\, he began with the Suzuki meth
 od on violin\, picking up trombone in high school after studying euphonium
 . He ultimately was named to the Utility Trombone position with the St. Lo
 uis Symphony Orchestra prior to the 2006/2007 season.
ATTACH;FMTTYPE=image/jpeg:https://conspirito.kirkwoodpres.org/wp-content/u
 ploads/2023/07/IMG_0735.jpeg
CATEGORIES:Notes@9
LOCATION:Sanctuary\, 100 E. Adams Ave.\, Kirkwood\, MO\, 63122\, United Sta
 tes
X-APPLE-STRUCTURED-LOCATION;VALUE=URI;X-ADDRESS=100 E. Adams Ave.\, Kirkwoo
 d\, MO\, 63122\, United States;X-APPLE-RADIUS=100;X-TITLE=Sanctuary:geo:0,
 0
END:VEVENT
BEGIN:VTIMEZONE
TZID:America/Chicago
X-LIC-LOCATION:America/Chicago
BEGIN:DAYLIGHT
DTSTART:20240310T030000
TZOFFSETFROM:-0600
TZOFFSETTO:-0500
TZNAME:CDT
END:DAYLIGHT
END:VTIMEZONE
END:VCALENDAR