BEGIN:VCALENDAR
VERSION:2.0
PRODID:-//wp-events-plugin.com//7.2.3.1//EN
TZID:America/Detroit
X-WR-TIMEZONE:America/Detroit
BEGIN:VEVENT
UID:23@conspirito.kirkwoodpres.org
DTSTART;TZID=America/Chicago:20250202T150000
DTEND;TZID=America/Chicago:20250202T160000
DTSTAMP:20250126T160204Z
URL:https://conspirito.kirkwoodpres.org/events/imi-chamber-players/
SUMMARY:IMI Chamber Players
DESCRIPTION:The IMI Chamber Players were founded in St. Louis 30 years ago 
 and have since grown into a community of interculturally-minded artists an
 d educators from around the globe. IMI (standing for the Intercultural Mus
 ic Initiative) responds to the growing call for diverse classical music pr
 ogramming\, presenting concerts with an exciting mix of standard repertoir
 e alongside music by lesser-known composers\, particularly of African desc
 ent and other racial minorities. Audiences will enjoy their delightfully i
 ntimate performances\, and hearing directly from top-notch artists about t
 heir creative process.
ATTACH;FMTTYPE=image/jpeg:https://conspirito.kirkwoodpres.org/wp-content/u
 ploads/2024/07/IMIonsteps.jpeg
CATEGORIES:Main Series
LOCATION:Sanctuary\, 100 E. Adams Ave.\, Kirkwood\, MO\, 63122\, United Sta
 tes
X-APPLE-STRUCTURED-LOCATION;VALUE=URI;X-ADDRESS=100 E. Adams Ave.\, Kirkwoo
 d\, MO\, 63122\, United States;X-APPLE-RADIUS=100;X-TITLE=Sanctuary:geo:0,
 0
END:VEVENT
BEGIN:VTIMEZONE
TZID:America/Chicago
X-LIC-LOCATION:America/Chicago
BEGIN:STANDARD
DTSTART:20241103T010000
TZOFFSETFROM:-0500
TZOFFSETTO:-0600
TZNAME:CST
END:STANDARD
END:VTIMEZONE
END:VCALENDAR