BEGIN:VCALENDAR
VERSION:2.0
PRODID:-//wp-events-plugin.com//7.2.3.1//EN
TZID:America/Detroit
X-WR-TIMEZONE:America/Detroit
BEGIN:VEVENT
UID:8@conspirito.kirkwoodpres.org
DTSTART;TZID=America/Chicago:20240308T120000
DTEND;TZID=America/Chicago:20240308T130000
DTSTAMP:20240216T172926Z
URL:https://conspirito.kirkwoodpres.org/events/hazel-shipley-clarinet/
SUMMARY:Hazel Shipley\, clarinet
DESCRIPTION:Hazel Shipley is a clarinetist from St. Louis\, Missouri. She h
 as been a member of First Presbyterian Church of Kirkwood since she was se
 ven\, where she has played clarinet with the church orchestra\, accompanie
 d the choir\, and played solos for service and concerts. Hazel graduated f
 rom Austin Peay State University in December of 2023 with a Bachelor of Sc
 ience in Music. She studied music with an emphasis on clarinet performance
 . She is currently teaching and residing in the St. Louis area.
ATTACH;FMTTYPE=image/jpeg:https://conspirito.kirkwoodpres.org/wp-content/u
 ploads/2023/09/IMG_6223.jpg
CATEGORIES:Lenten Series
LOCATION:Tree of Life Chapel\, 100 E. Adams Avenue\, Kirkwood\, MO\, 63122\
 , United States
X-APPLE-STRUCTURED-LOCATION;VALUE=URI;X-ADDRESS=100 E. Adams Avenue\, Kirkw
 ood\, MO\, 63122\, United States;X-APPLE-RADIUS=100;X-TITLE=Tree of Life C
 hapel:geo:0,0
END:VEVENT
BEGIN:VTIMEZONE
TZID:America/Chicago
X-LIC-LOCATION:America/Chicago
BEGIN:STANDARD
DTSTART:20231105T010000
TZOFFSETFROM:-0500
TZOFFSETTO:-0600
TZNAME:CST
END:STANDARD
END:VTIMEZONE
END:VCALENDAR