BEGIN:VCALENDAR
VERSION:2.0
PRODID:-//wp-events-plugin.com//7.2.3.1//EN
TZID:America/Detroit
X-WR-TIMEZONE:America/Detroit
BEGIN:VEVENT
UID:7@conspirito.kirkwoodpres.org
DTSTART;TZID=America/Chicago:20240301T120000
DTEND;TZID=America/Chicago:20240301T130000
DTSTAMP:20240205T122155Z
URL:https://conspirito.kirkwoodpres.org/events/chamber-project-st-louis-2/
SUMMARY:Chamber Project St. Louis
DESCRIPTION:Chamber Project Saint Louis embraces the communicative and coll
 aborative nature of chamber music to create interactive performances refle
 cting a 21st-century audience\, and creates partnerships with both traditi
 onal and non-traditional venues\, all types of artists\, institutions\, an
 d the community.
ATTACH;FMTTYPE=image/jpeg:https://conspirito.kirkwoodpres.org/wp-content/u
 ploads/2018/07/4upwithviolacrop.jpg
CATEGORIES:Lenten Series
LOCATION:Tree of Life Chapel\, 100 E. Adams Avenue\, Kirkwood\, MO\, 63122\
 , United States
X-APPLE-STRUCTURED-LOCATION;VALUE=URI;X-ADDRESS=100 E. Adams Avenue\, Kirkw
 ood\, MO\, 63122\, United States;X-APPLE-RADIUS=100;X-TITLE=Tree of Life C
 hapel:geo:0,0
END:VEVENT
BEGIN:VTIMEZONE
TZID:America/Chicago
X-LIC-LOCATION:America/Chicago
BEGIN:STANDARD
DTSTART:20231105T010000
TZOFFSETFROM:-0500
TZOFFSETTO:-0600
TZNAME:CST
END:STANDARD
END:VTIMEZONE
END:VCALENDAR