BEGIN:VCALENDAR
VERSION:2.0
PRODID:-//wp-events-plugin.com//7.2.3.1//EN
TZID:America/Detroit
X-WR-TIMEZONE:America/Detroit
BEGIN:VEVENT
UID:19@conspirito.kirkwoodpres.org
DTSTART;TZID=America/Chicago:20241006T150000
DTEND;TZID=America/Chicago:20241006T163000
DTSTAMP:20240911T174454Z
URL:https://conspirito.kirkwoodpres.org/events/benedetta-orsi-w-mark-akin-
 alla-voskoboynikova/
SUMMARY:Benedetta Orsi\, W. Mark Akin\, Alla Voskoboynikova
DESCRIPTION:“Romanzas de amor” is an exceptionally colorful programme\,
  centered around the themes of love and living life to the fullest. From t
 ango and Afro-cuban dance rhythms to Italian\, Spanish and English love ly
 rics\, this concert impact the audience with emotional and melodic music.
ATTACH;FMTTYPE=image/jpeg:https://conspirito.kirkwoodpres.org/wp-content/u
 ploads/2024/07/Bene_11.jpg
CATEGORIES:Main Series
LOCATION:Sanctuary\, 100 E. Adams Ave.\, Kirkwood\, MO\, 63122\, United Sta
 tes
X-APPLE-STRUCTURED-LOCATION;VALUE=URI;X-ADDRESS=100 E. Adams Ave.\, Kirkwoo
 d\, MO\, 63122\, United States;X-APPLE-RADIUS=100;X-TITLE=Sanctuary:geo:0,
 0
END:VEVENT
BEGIN:VTIMEZONE
TZID:America/Chicago
X-LIC-LOCATION:America/Chicago
BEGIN:DAYLIGHT
DTSTART:20240310T030000
TZOFFSETFROM:-0600
TZOFFSETTO:-0500
TZNAME:CDT
END:DAYLIGHT
END:VTIMEZONE
END:VCALENDAR