BEGIN:VCALENDAR
VERSION:2.0
PRODID:-//wp-events-plugin.com//7.2.3.1//EN
TZID:America/Detroit
X-WR-TIMEZONE:America/Detroit
BEGIN:VEVENT
UID:25@conspirito.kirkwoodpres.org
DTSTART;TZID=America/Chicago:20250504T150000
DTEND;TZID=America/Chicago:20250504T160000
DTSTAMP:20240802T220536Z
URL:https://conspirito.kirkwoodpres.org/events/annual-organ-dedication-ann
 iversary-recital-damin-spritzer/
SUMMARY:Annual Organ Dedication Anniversary Recital: Damin Spritzer
DESCRIPTION:Area Chair and Associate Professor of Organ Dr. Damin Spritzer 
 has been with the University of Oklahoma since 2014. She continues work wi
 th the Cathedral Church of Saint Matthew in Dallas as Artist-in-Residence 
 for Cathedral Arts and is active in the Dallas and Oklahoma City Chapters 
 of the American Guild of Organists. She received her doctorate from the Un
 iversity of North Texas\, her Master of Music from the Eastman School of M
 usic\, and her Bachelor of Music from the Oberlin Conservatory of Music.
ATTACH;FMTTYPE=image/jpeg:https://conspirito.kirkwoodpres.org/wp-content/u
 ploads/2024/07/DSFinalFavorites-4-Color.jpg
CATEGORIES:Main Series
LOCATION:Sanctuary\, 100 E. Adams Ave.\, Kirkwood\, MO\, 63122\, United Sta
 tes
X-APPLE-STRUCTURED-LOCATION;VALUE=URI;X-ADDRESS=100 E. Adams Ave.\, Kirkwoo
 d\, MO\, 63122\, United States;X-APPLE-RADIUS=100;X-TITLE=Sanctuary:geo:0,
 0
END:VEVENT
BEGIN:VTIMEZONE
TZID:America/Chicago
X-LIC-LOCATION:America/Chicago
BEGIN:DAYLIGHT
DTSTART:20250309T030000
TZOFFSETFROM:-0600
TZOFFSETTO:-0500
TZNAME:CDT
END:DAYLIGHT
END:VTIMEZONE
END:VCALENDAR